BEGIN:VCALENDAR
VERSION:2.0
PRODID:-//eventon.com NONSGML v1.0//EN
BEGIN:VEVENT
UID:69e8a4178d59b
DTSTAMP:20260422T203359
DTSTART:20181204T230000Z
DTEND:20181204T160000Z
LOCATION:
SUMMARY:CWA Mother's Day Cake Stall
DESCRIPTION: The CWA - Footscray are holding their 3rd annual stall celebrating Mother's Day. They will be selling our famous jams\,  marmalade and preserves\,  along with scones\,  cakes\,  biscuits\,  slices and other delicious treats. All money raised will go towards our community donations. Last year they were able to donate over[..]
END:VEVENT
END:VCALENDAR