BEGIN:VCALENDAR
VERSION:2.0
PRODID:-//eventon.com NONSGML v1.0//EN
BEGIN:VEVENT
UID:69ecab8380986
DTSTAMP:20260425T215443
DTSTART:20180906T000000Z
DTEND:20180905T180000Z
LOCATION:
SUMMARY:Yarraville Craft Market
DESCRIPTION: Yarraville Craft Market
END:VEVENT
END:VCALENDAR