BEGIN:VCALENDAR
VERSION:2.0
PRODID:-//eventon.com NONSGML v1.0//EN
BEGIN:VEVENT
UID:69e4d6871cf10
DTSTAMP:20260419T232007
DTSTART:20190605T140000Z
DTEND:20190606T135900Z
LOCATION:
SUMMARY:Sun Theatre Mondays - $11.00 All Day
DESCRIPTION: Sun Theatre Mondays - $11.00 All Day
END:VEVENT
END:VCALENDAR