BEGIN:VCALENDAR
VERSION:2.0
PRODID:-//eventon.com NONSGML v1.0//EN
BEGIN:VEVENT
UID:69e8af9cd522e
DTSTAMP:20260422T212308
DTSTART:20181107T190000Z
DTEND:20181107T230000Z
LOCATION:
SUMMARY:Push Start Music Competition
DESCRIPTION: Hi music enthusiasts! We want to invite you all to Phoenix Youth Hub for our Push Start Music competition on Saturday the 11th of August from 5pm-9pm. FReeZA Push Start is a music competition for young people between the ages of 12-25\,  for young aspiring artists who are either in[..]
END:VEVENT
END:VCALENDAR