BEGIN:VCALENDAR
VERSION:2.0
PRODID:-//eventon.com NONSGML v1.0//EN
BEGIN:VEVENT
UID:69e8a12408a1b
DTSTAMP:20260422T202124
DTSTART:20181008T000000Z
DTEND:20181008T010000Z
LOCATION:
SUMMARY:Crafty Chimps @ New Leaf Cafe
DESCRIPTION: Crafty Chimps is a unique craft and sensory program that features interactive themes to give your child the best learning experience. Run by two qualified and passionate Early Childhood teachers\,  Sylvia and Rose\,  this interactive session is hands on and perfect for little ones aged 6 months to 5 years.[..]
END:VEVENT
END:VCALENDAR