BEGIN:VCALENDAR
VERSION:2.0
PRODID:-//eventon.com NONSGML v1.0//EN
BEGIN:VEVENT
UID:69e73c47b6ac1
DTSTAMP:20260421T185847
DTSTART:20180708T233000Z
DTEND:20180708T150000Z
LOCATION:
SUMMARY:Generate 2018 - Ableism & Access
DESCRIPTION: Everyday discrimination and how it can be avoided We will explore the limitations of an ‘ableist’ perspective – a view that can’t see beyond its own sociophysical privilege. The experience of people with perceived disabilities is paramount to understanding the complex and intersectional dynamics of life in an urban hub[..]
END:VEVENT
END:VCALENDAR