BEGIN:VCALENDAR
VERSION:2.0
PRODID:-//eventon.com NONSGML v1.0//EN
BEGIN:VEVENT
UID:69e73c821ee58
DTSTAMP:20260421T185946
DTSTART:20180610T000000Z
DTEND:20180610T020000Z
LOCATION:
SUMMARY:Words & Images: Your Most Powerful Marketing Tools (FREE)
DESCRIPTION: Do you find yourself lost for words when marketing your brand? Are you struggling to choose or create images and keep up with social media demands? Would you love to learn how to better communicate with your ideal client? Come along to this FREE workshop where we will be sharing[..]
END:VEVENT
END:VCALENDAR