BEGIN:VCALENDAR
VERSION:2.0
PRODID:-//eventon.com NONSGML v1.0//EN
BEGIN:VEVENT
UID:69e73d18287a4
DTSTAMP:20260421T190216
DTSTART:20180709T190000Z
DTEND:20180709T203000Z
LOCATION:
SUMMARY:Special Screening: Voyage of the Southern Sun
DESCRIPTION: VOYAGE OF THE SOUTHERN SUN Rating: G Length: 99 minutes A special documentary about the Sun Theatre's intrepid owner\,  Michael Smith Now screening the first Sunday of every month at 5.00pm Genre: Adventure\,  Documentary Rating: G 99' Director: Robert Murphy Synopsis: Australian Geographic's Adventurer of the Year\,  Michael Smith\,  discovered the delights[..]
END:VEVENT
END:VCALENDAR