BEGIN:VCALENDAR
VERSION:2.0
PRODID:-//eventon.com NONSGML v1.0//EN
BEGIN:VEVENT
UID:69e75445232f8
DTSTAMP:20260421T204109
DTSTART:20181110T160000Z
DTEND:20181110T190000Z
LOCATION:
SUMMARY:Shimona and the Cat's Pyjamas
DESCRIPTION: Back by popular demand! In a special DOUBLE FEATURE\,  Melbourne's HOTTEST NEW SWING BAND\,  Shimona & The Cat's Pyjamas is BACK at Mantra Studio Kitchen and Bar due to POPULAR DEMAND!!! TWO Sundays\,  2pm-5pm: 11 November 2018 9 December 2018 LIVE SHOWREEL: https://www.youtube.com/watch?v=OVDKQJcMLlc Relax and find your Mantra with Shimona & The Cat's Pyjamas at[..]
END:VEVENT
END:VCALENDAR