BEGIN:VCALENDAR
VERSION:2.0
PRODID:-//eventon.com NONSGML v1.0//EN
BEGIN:VEVENT
UID:69e73d02e5d57
DTSTAMP:20260421T190154
DTSTART:20190503T210000Z
DTEND:20190504T010000Z
LOCATION:
SUMMARY:VU Western Spurs Trivia Night
DESCRIPTION: Spurs Trivia Night is coming to our home ground's club rooms! It's time to get those brains ticking and choose your team to compete in what will be an awesome event. $100 for a table which fits 10 people\,  so it works out to an awesome $10 a head! There[..]
END:VEVENT
END:VCALENDAR