BEGIN:VCALENDAR
VERSION:2.0
PRODID:-//eventon.com NONSGML v1.0//EN
BEGIN:VEVENT
UID:69e73cfa255e6
DTSTAMP:20260421T190146
DTSTART:20190708T010000Z
DTEND:20190708T050000Z
LOCATION:Yarraville Community Centre 114 Blackwood Street Yarraville
SUMMARY:Super Smash Bros Ultimate Tournament
DESCRIPTION: Yarraville Community Centre Youth Space - The Pack School Holiday program. Mondays and Thursdays 11am - 3pm @ 114 Blackwood st. Nintendo Switch Tournament on the big screen. BYO own controllers or use ours. Also WII competitions. Beginners welcome. Build friendships and your gaming skills. Make your own Pizza and[..]
END:VEVENT
END:VCALENDAR