BEGIN:VCALENDAR
VERSION:2.0
PRODID:-//eventon.com NONSGML v1.0//EN
BEGIN:VEVENT
UID:69e73cd19d728
DTSTAMP:20260421T190105
DTSTART:20190707T233000Z
DTEND:20190708T013000Z
LOCATION:Braybrook Community Hub 107 Churchill Avenue
SUMMARY:Wit Kids School Holiday Classes (free)
DESCRIPTION: FREE DRAMA CLASSES Thanks to the Braybrook Community Hub and the Maribyrnong Community Centre\,  your kids can try Wit Kids drama class for FREE in the July school holidays. Perfect for kids who want to give drama a go\,  or for regular students eager to get their summer drama fix![..]
END:VEVENT
END:VCALENDAR