BEGIN:VCALENDAR
VERSION:2.0
PRODID:-//eventon.com NONSGML v1.0//EN
BEGIN:VEVENT
UID:69e73d1dd5079
DTSTAMP:20260421T190221
DTSTART:20190703T010000Z
DTEND:20190703T020000Z
LOCATION:Yarraville Club 135 Stephen Street Yarraville
SUMMARY:Dinomania - Real Dinosaurs
DESCRIPTION: DINOMANIA is a family show spectacular that allows imaginations to run wild. The audience will embark on an awe-inspiring\,  exhilarating and gripping journey back to an age when dinosaurs roamed the earth. Come face to face with FOUR dinosaurs and a quirky cast as the battle unfolds to find out[..]
END:VEVENT
END:VCALENDAR