BEGIN:VCALENDAR
VERSION:2.0
PRODID:-//eventon.com NONSGML v1.0//EN
BEGIN:VEVENT
UID:69e756389f663
DTSTAMP:20260421T204928
DTSTART:20190919T140000Z
DTEND:20190922T135900Z
LOCATION:Footscray Community Arts Centre 45 Moreland St Footscray
SUMMARY:JOLT Festival (20 - 22 Sept)
DESCRIPTION: JOLT FESTIVAL 2019: CONCERT ONE Presented by Footscray Community Arts Centre\,  Beat Magazine\,  3PBS Radio and JOLT Arts. Tickets In order of appearance WELCOME TO COUNTRY UNCLE LARRY WALSH Introducing the festival EMILY BENNETT (pictured) VOICE // ELECTRONICS 20 min ART DAY SOUTH A SOUND ART ENSEMBLE 10 min STRANGE[..]
END:VEVENT
END:VCALENDAR