BEGIN:VCALENDAR
VERSION:2.0
PRODID:-//eventon.com NONSGML v1.0//EN
BEGIN:VEVENT
UID:69e73c6935eae
DTSTAMP:20260421T185921
DTSTART:20190927T093000Z
DTEND:20190927T110000Z
LOCATION:Footscray Community Arts Centre 45 Moreland St Footscray
SUMMARY:Fringe Westside: A Fundamentally Flawed Love Story (27 - 28 Sept)
DESCRIPTION: Growing up\,  she was taught that getting married was the most important thing a woman could do. She should always be seen as ‘marriage material’. Her grandmother’s catchphrase was ‘I didn’t have an education\,  but I know how to behave.’ Growing up\,  he was taught to always be strong and[..]
END:VEVENT
END:VCALENDAR