BEGIN:VCALENDAR
VERSION:2.0
PRODID:-//eventon.com NONSGML v1.0//EN
BEGIN:VEVENT
UID:69e88c30c0e91
DTSTAMP:20260422T185200
DTSTART:20191104T000000Z
DTEND:20191104T020000Z
LOCATION:IPC Health 330 Queen Street Altona Meadows
SUMMARY:Don't Panic - Relax! Workshop
DESCRIPTION: IPC Health invites the community to participate in a supportive and educational group with innovative ideas to manage stress\,  anxiety and depression. It is a free group and runs for 6 weeks from 14th October - 18th November
END:VEVENT
END:VCALENDAR