BEGIN:VCALENDAR
VERSION:2.0
PRODID:-//eventon.com NONSGML v1.0//EN
BEGIN:VEVENT
UID:69e7550c40c3d
DTSTAMP:20260421T204428
DTSTART:20200106T140000Z
DTEND:20200107T135900Z
LOCATION:Sun Theatre 8 Ballarat St Yarraville
SUMMARY:Sun Theatre $12 tix all day
DESCRIPTION: $12 tix all every Monday and Tuesday (EXCLUDING public holidays) Learn more
END:VEVENT
END:VCALENDAR