BEGIN:VCALENDAR
VERSION:2.0
PRODID:-//eventon.com NONSGML v1.0//EN
BEGIN:VEVENT
UID:69e7403f64091
DTSTAMP:20260421T191543
DTSTART:20191128T063000Z
DTEND:20191128T090000Z
LOCATION:Phoenix Youth Hub 72 Buckley Street Footscray 
SUMMARY:Cook the Fridge
DESCRIPTION: Free cooking classes and dinner at Phoenix Youth Hub. Come along and learn quick and nutritious meals you can cook for yourselves from whatever is in the fridge! No skills or experience needed\,  these sessions will help you to develop basic skills to cook cheap and delicious meals at home.[..]
END:VEVENT
END:VCALENDAR