BEGIN:VCALENDAR
VERSION:2.0
PRODID:-//eventon.com NONSGML v1.0//EN
BEGIN:VEVENT
UID:69e775da81ae5
DTSTAMP:20260421T230426
DTSTART:20200208T230000Z
DTEND:20200209T040000Z
LOCATION:The Line 2 Yewers St Footscray 
SUMMARY:Footscray Finds Market
DESCRIPTION: Situated indoors at The Line in Yewers Lane\,  Footscray Finds is the best market to visit through winter There are 37 stall spaces available in the open mezzanine while the bar next door and upstairs at Back Alley Sally’s becomes a great jumble sale suited for smaller stall holders. Expect[..]
END:VEVENT
END:VCALENDAR