BEGIN:VCALENDAR
VERSION:2.0
PRODID:-//eventon.com NONSGML v1.0//EN
BEGIN:VEVENT
UID:69e9db7bdc42c
DTSTAMP:20260423T184235
DTSTART:20191108T090000Z
DTEND:20191108T110000Z
LOCATION:Smokehouse 101 101 Rosamund Road Maribyrnong
SUMMARY:Alleged Associates (play live every Friday)
DESCRIPTION: Local musicians Zerafina Zara & Tez are Alleged Associates\,  playing live unplugged and up very close\,  at Smokehouse 101 Maribyrnong from 7pm every Friday.
END:VEVENT
END:VCALENDAR