BEGIN:VCALENDAR
VERSION:2.0
PRODID:-//eventon.com NONSGML v1.0//EN
BEGIN:VEVENT
UID:69e997570d8bf
DTSTAMP:20260423T135151
DTSTART:20200129T070000Z
DTEND:20200129T120000Z
LOCATION:Queen Victoria Market 513 Elizabeth Street Melbourne
SUMMARY:The Queen Victoria Night Market
DESCRIPTION: Melbourne's iconic Queen Vic Market opens its doors after dark for a bustling bazaar of food\,  drink\,  live entertainment and more Spend your Wednesday nights surrounded by food at the Queen Victoria Market's fantastic Summer Night Market. Expect rows and rows of street food stalls and festival bars as well as art\, [..]
END:VEVENT
END:VCALENDAR