BEGIN:VCALENDAR
VERSION:2.0
PRODID:-//eventon.com NONSGML v1.0//EN
BEGIN:VEVENT
UID:69e73d3972693
DTSTAMP:20260421T190249
DTSTART:20200115T140000Z
DTEND:20200116T135900Z
LOCATION:National Gallery Victoria St Kilda Road Melbourne
SUMMARY:KAWS: Companionship in the Age of Loneliness (1 Dec - 13 April)
DESCRIPTION: The New York artist's much-loved characters are taking over the NGV for summer Even if you don't know his name\,  you're almost certainly familiar with Brian Donnelly's (aka KAWS) larger-than-life sculptures and paintings. Kaws take icons from cartoons and pop culture and reimagines them in vulnerable and unexpected situations. His[..]
END:VEVENT
END:VCALENDAR