BEGIN:VCALENDAR
VERSION:2.0
PRODID:-//eventon.com NONSGML v1.0//EN
BEGIN:VEVENT
UID:69e73c5552893
DTSTAMP:20260421T185901
DTSTART:20200307T000000Z
DTEND:20200307T070000Z
LOCATION:Inner West Community Bike Hub 38 Moreland Street Footscray 
SUMMARY:Footscray Community Bike Shed
DESCRIPTION: The Footscray Community Bike Shed is a Footscray Rotary initiative bringing together local service providers\,  bike enthusiasts and refugees and asylum seekers in need of wheels. The shed takes unwanted donated bikes of all shapes and sizes. Volunteer mechanics give the bikes a good service and clean. Bikes are given[..]
END:VEVENT
END:VCALENDAR