BEGIN:VCALENDAR
VERSION:2.0
PRODID:-//eventon.com NONSGML v1.0//EN
BEGIN:VEVENT
UID:69e73c258c839
DTSTAMP:20260421T185813
DTSTART:20200329T084500Z
DTEND:20200329T101500Z
LOCATION:Braybrook Community Hub 107 Churchill Avenue
SUMMARY:Soul Kitchen
DESCRIPTION: Soul Kitchen provide a delicious FREE meal every Sunday evening. No need to book just turn up on the night\,  bring your family\,  friends and neighbours. Or if you'd like to volunteer and help prepare dinner\,  please get in touch. Learn more
END:VEVENT
END:VCALENDAR