BEGIN:VCALENDAR
VERSION:2.0
PRODID:-//eventon.com NONSGML v1.0//EN
BEGIN:VEVENT
UID:69e740725159d
DTSTAMP:20260421T191634
DTSTART:20200216T140000Z
DTEND:20200217T135900Z
LOCATION:Sun Theatre 8 Ballarat St Yarraville
SUMMARY:Sun Theatre $12 movie tix all day
DESCRIPTION: $12 tix all every Monday and Tuesday (EXCLUDING public holidays) Learn more
END:VEVENT
END:VCALENDAR