BEGIN:VCALENDAR
VERSION:2.0
PRODID:-//eventon.com NONSGML v1.0//EN
BEGIN:VEVENT
UID:69e753a0a9d6f
DTSTAMP:20260421T203824
DTSTART:20200209T050000Z
DTEND:20200209T080000Z
LOCATION:Altona Sports Club 11 Altona Road Altona
SUMMARY:Michael Zammit Trio
DESCRIPTION: Michael Zammit is the ultimate front man. His raw sound & strong vocal ability is a credit to the band. He is the perfect blend of Neil Diamond\,  Rod Stewart and Bon Jovi all rolled into one. Come and join Michael\,  Dean and Jen for a great afternoon as they[..]
END:VEVENT
END:VCALENDAR