BEGIN:VCALENDAR
VERSION:2.0
PRODID:-//eventon.com NONSGML v1.0//EN
BEGIN:VEVENT
UID:69e9db5d2993c
DTSTAMP:20260423T184205
DTSTART:20200213T003000Z
DTEND:20200213T010000Z
LOCATION:Braybrook Library 107 Churchill Avenue Braybrook
SUMMARY:Baby Rhyme Time - Braybrook Library
DESCRIPTION: A series of free story times for babies and toddlers 0-2 years old.
END:VEVENT
END:VCALENDAR