BEGIN:VCALENDAR
VERSION:2.0
PRODID:-//eventon.com NONSGML v1.0//EN
BEGIN:VEVENT
UID:69e7aac558dd8
DTSTAMP:20260422T025013
DTSTART:20200311T000000Z
DTEND:20200311T013000Z
LOCATION:Joan Kirner House 14 Thompson St Williamstown
SUMMARY:Free Willi Walking Group
DESCRIPTION: Every Wednesday followed by Morning Tea at 11.00am at Joan Kirner House
END:VEVENT
END:VCALENDAR