BEGIN:VCALENDAR
VERSION:2.0
PRODID:-//eventon.com NONSGML v1.0//EN
BEGIN:VEVENT
UID:69e8a3e3bed17
DTSTAMP:20260422T203307
DTSTART:20200328T050000Z
DTEND:20200328T100000Z
LOCATION:Henderson House Maribyrnong River\,  Footscray
SUMMARY:Many Hands Project - Henderson House Landing
DESCRIPTION: Come down to the Maribyrnong River and experience the ‘Many Hands Project’! A new and exciting public art and family fun activation taking place behind the Footscray Community Arts Centre. This activation is a result of an expression of interest process that called for creative ideas to utilise and activate[..]
END:VEVENT
END:VCALENDAR