BEGIN:VCALENDAR
VERSION:2.0
PRODID:-//eventon.com NONSGML v1.0//EN
BEGIN:VEVENT
UID:69eb2d6387cf5
DTSTAMP:20260424T184419
DTSTART:20200313T053000Z
DTEND:20200313T070000Z
LOCATION:Yarraville Library 32 Wembley Avenue Yarraville
SUMMARY:Games Galore - Yarraville Library
DESCRIPTION: Ages 5 – 12 years. Enjoy games in various forms and have a go at creating your own! No bookings required.
END:VEVENT
END:VCALENDAR