BEGIN:VCALENDAR
VERSION:2.0
PRODID:-//eventon.com NONSGML v1.0//EN
BEGIN:VEVENT
UID:69e740f18886a
DTSTAMP:20260421T191841
DTSTART:20210209T010000Z
DTEND:20210209T020000Z
LOCATION:
SUMMARY:Tuesday Chats with Hobson's Bay Council
DESCRIPTION: Join us for Tuesday Chats! We will discuss how to get the most value from your accountant and other professional services. Join local business owners to discuss the topic and how it relates to your business. You never know who you might meet or what you may learn! Tuesday Chats[..]
END:VEVENT
END:VCALENDAR