BEGIN:VCALENDAR
VERSION:2.0
PRODID:-//eventon.com NONSGML v1.0//EN
BEGIN:VEVENT
UID:69e8a0a87ea2b
DTSTAMP:20260422T201920
DTSTART:20210312T220000Z
DTEND:20210313T030000Z
LOCATION:Happy Receptions 199 Sunshine Road West Footscray 
SUMMARY:Slow Food Melbourne (West Footscray)
DESCRIPTION: Slow Food Melbourne is a dedicated local convivium that works with our local producers\,  growers\,  makers and other food organisations to champion resilient food systems through our projects. Founded by Carlo Petrini in Italy in 1986\,  Slow Food is an international association that defends the cultural and agricultural biodiversity of[..]
END:VEVENT
END:VCALENDAR