BEGIN:VCALENDAR
VERSION:2.0
PRODID:-//eventon.com NONSGML v1.0//EN
BEGIN:VEVENT
UID:69e74090274c1
DTSTAMP:20260421T191704
DTSTART:20210206T230000Z
DTEND:20210207T040000Z
LOCATION:AB Shaw Reserve Cnr Hall Ave & Shirley St Altona Meadows
SUMMARY:Altona Meadows Farmers Market
DESCRIPTION: A fantastic farm fresh market that showcases our wonderful municipalities local produce. The market is located at AB Shaw Reserve in Altona Meadows near the children's play area. There is lots of fresh local produce\,  baked goods and yummy hot food. Dogs on leash are welcome!! When Sunday\,  07 February 2021 | 09:00[..]
END:VEVENT
END:VCALENDAR