BEGIN:VCALENDAR
VERSION:2.0
PRODID:-//eventon.com NONSGML v1.0//EN
BEGIN:VEVENT
UID:69e740d465a2b
DTSTAMP:20260421T191812
DTSTART:20210205T081500Z
DTEND:20210205T101500Z
LOCATION:Women&#039;s Circus 395 Barkly Street Footscray
SUMMARY:Circus Mixtape - Women's Circus
DESCRIPTION: Circus Mixtape is back! A class open specifically to anyone who identifies as trans or gender diverse. HEAVILY SUBSIDISED CLASS - SUPER AFFORDABLE! This all-sorts circus class is open to all levels and explores a range of circus activities from acrobalance to tumbling with some circus muscle conditioning as well![..]
END:VEVENT
END:VCALENDAR