BEGIN:VCALENDAR
VERSION:2.0
PRODID:-//eventon.com NONSGML v1.0//EN
BEGIN:VEVENT
UID:69e9dc30b9d66
DTSTAMP:20260423T184536
DTSTART:20210314T043000Z
DTEND:20210314T073000Z
LOCATION:Footscray Park Bowls Club 1 Hoadley Court Footscray 
SUMMARY:Bands @ the Bowlo
DESCRIPTION: Live music is back at Footscray Park Bowling Club. We are kicking off this series with @Miles Recommends who will deliver an eclectic mix of rock\,  pop\,  blues\,  funk and folk over two sets. Bring friends\,  family and enjoy the great atmosphere and a drink at the bowlo. Gold coin[..]
END:VEVENT
END:VCALENDAR