BEGIN:VCALENDAR
VERSION:2.0
PRODID:-//eventon.com NONSGML v1.0//EN
BEGIN:VEVENT
UID:69e8a05a5f889
DTSTAMP:20260422T201802
DTSTART:20210527T083000Z
DTEND:20210527T093000Z
LOCATION:
SUMMARY:Understanding History: Only One Step Towards Change (online)
DESCRIPTION: Understanding History: Only one step towards change Thursday 27 May\,  6.30pm to 7.30pm\,  Online https://libraries.hobsonsbay.vic.gov.au/whats-on/library-events/community-learning/2877-understanding-history-only-one-step-towards-change
END:VEVENT
END:VCALENDAR