BEGIN:VCALENDAR
VERSION:2.0
PRODID:-//eventon.com NONSGML v1.0//EN
BEGIN:VEVENT
UID:69e754126662f
DTSTAMP:20260421T204018
DTSTART:20210619T000000Z
DTEND:20210620T060000Z
LOCATION:Waterside Metal Art Studio 60 Maribyrnong St Footscray
SUMMARY:Blacksmiths' Festival
DESCRIPTION: Warm up this winter solstice as fire meets metal during Footscray’s fifth biennial Blacksmith Festival on Saturday 19 and Sunday 20 June. With the support of the Maribyrnong City Council’s Festival City Program this year's festival will bring together blacksmiths from across Australia to showcase this not-so-lost trade. Program highlights:[..]
END:VEVENT
END:VCALENDAR